BEGIN:VCALENDAR
VERSION:2.0
PRODID:-//Comité Sportif Bouliste de Saône et Loire - ECPv6.15.20//NONSGML v1.0//EN
CALSCALE:GREGORIAN
METHOD:PUBLISH
X-ORIGINAL-URL:https://www.csb71.com
X-WR-CALDESC:évènements pour Comité Sportif Bouliste de Saône et Loire
REFRESH-INTERVAL;VALUE=DURATION:PT1H
X-Robots-Tag:noindex
X-PUBLISHED-TTL:PT1H
BEGIN:VTIMEZONE
TZID:Europe/Paris
BEGIN:DAYLIGHT
TZOFFSETFROM:+0100
TZOFFSETTO:+0200
TZNAME:CEST
DTSTART:20240331T010000
END:DAYLIGHT
BEGIN:STANDARD
TZOFFSETFROM:+0200
TZOFFSETTO:+0100
TZNAME:CET
DTSTART:20241027T010000
END:STANDARD
BEGIN:DAYLIGHT
TZOFFSETFROM:+0100
TZOFFSETTO:+0200
TZNAME:CEST
DTSTART:20250330T010000
END:DAYLIGHT
BEGIN:STANDARD
TZOFFSETFROM:+0200
TZOFFSETTO:+0100
TZNAME:CET
DTSTART:20251026T010000
END:STANDARD
BEGIN:DAYLIGHT
TZOFFSETFROM:+0100
TZOFFSETTO:+0200
TZNAME:CEST
DTSTART:20260329T010000
END:DAYLIGHT
BEGIN:STANDARD
TZOFFSETFROM:+0200
TZOFFSETTO:+0100
TZNAME:CET
DTSTART:20261025T010000
END:STANDARD
END:VTIMEZONE
BEGIN:VEVENT
DTSTART;TZID=Europe/Paris:20250906T073000
DTEND;TZID=Europe/Paris:20250906T073000
DTSTAMP:20260424T052814
CREATED:20240924T101611Z
LAST-MODIFIED:20250808T140438Z
UID:10001777-1757143800-1757143800@www.csb71.com
SUMMARY:32 doubles  3 et 4 + 1N  En poules
DESCRIPTION:
URL:https://www.csb71.com/evenement/32-doubles-3-et-4-1n-en-poules/
LOCATION:LA CHAPELLE-DE-GUINCHAY
CATEGORIES:concours tous publics
END:VEVENT
BEGIN:VEVENT
DTSTART;TZID=Europe/Paris:20250906T133000
DTEND;TZID=Europe/Paris:20250906T133000
DTSTAMP:20260424T052814
CREATED:20240924T101610Z
LAST-MODIFIED:20250826T061110Z
UID:10001776-1757165400-1757165400@www.csb71.com
SUMMARY:16 doubles  3/4 + loisir Loisir Système Aurard
DESCRIPTION:
URL:https://www.csb71.com/evenement/16-doubles-3-4-loisir-loisir-systeme-aurard-5/
LOCATION:MONTCHANIN
CATEGORIES:concours tous publics
ATTACH;FMTTYPE=image/jpeg:https://www.csb71.com/wp-content/uploads/2024/09/Montchanin-06-09-2025-16-doubles-3-4-loisir.jpg
END:VEVENT
BEGIN:VEVENT
DTSTART;TZID=Europe/Paris:20250907T073000
DTEND;TZID=Europe/Paris:20250907T073000
DTSTAMP:20260424T052814
CREATED:20240924T101611Z
LAST-MODIFIED:20250808T140336Z
UID:10001778-1757230200-1757230200@www.csb71.com
SUMMARY:32 doubles  3 et 4 + 1N  En poules
DESCRIPTION:
URL:https://www.csb71.com/evenement/32-doubles-3-et-4-1n-en-poules-2/
LOCATION:LA CHAPELLE-DE-GUINCHAY
CATEGORIES:concours tous publics
END:VEVENT
BEGIN:VEVENT
DTSTART;TZID=Europe/Paris:20250907T133000
DTEND;TZID=Europe/Paris:20250907T133000
DTSTAMP:20260424T052814
CREATED:20250806T094002Z
LAST-MODIFIED:20250826T060559Z
UID:10001820-1757251800-1757251800@www.csb71.com
SUMMARY:16 doubles 3/4 + 1N Promotion Système Aurard
DESCRIPTION:
URL:https://www.csb71.com/evenement/16-doubles-3-4-1n-promotion-systeme-aurard-2/
LOCATION:AUTUN
CATEGORIES:concours tous publics
ATTACH;FMTTYPE=image/jpeg:https://www.csb71.com/wp-content/uploads/2025/08/Autun-07-09-2025-16-doubles-3-4-1N.jpg
END:VEVENT
BEGIN:VEVENT
DTSTART;TZID=Europe/Paris:20250913T080000
DTEND;TZID=Europe/Paris:20250914T190000
DTSTAMP:20260424T052814
CREATED:20240924T101810Z
LAST-MODIFIED:20250808T140223Z
UID:10001781-1757750400-1757876400@www.csb71.com
SUMMARY:64 doubles 3/4 + 1N Propagande En poules
DESCRIPTION:
URL:https://www.csb71.com/evenement/64-doubles-td-propagande-en-poules/
LOCATION:MACON OMB
CATEGORIES:concours tous publics
ATTACH;FMTTYPE=image/jpeg:https://www.csb71.com/wp-content/uploads/2024/09/FB_IMG_1751390621908.jpg
END:VEVENT
BEGIN:VEVENT
DTSTART;TZID=Europe/Paris:20250913T133000
DTEND;TZID=Europe/Paris:20250913T133000
DTSTAMP:20260424T052814
CREATED:20240924T101809Z
LAST-MODIFIED:20250808T104250Z
UID:10001779-1757770200-1757770200@www.csb71.com
SUMMARY:32 simple  3 et 4 Promotion Élimination directe
DESCRIPTION:
URL:https://www.csb71.com/evenement/32-simple-3-et-4-promotion-elimination-directe/
LOCATION:CHAUFFAILLES
CATEGORIES:concours tous publics
END:VEVENT
BEGIN:VEVENT
DTSTART;TZID=Europe/Paris:20250913T133000
DTEND;TZID=Europe/Paris:20250913T133000
DTSTAMP:20260424T052814
CREATED:20240924T101809Z
LAST-MODIFIED:20250808T140108Z
UID:10001780-1757770200-1757770200@www.csb71.com
SUMMARY:16 doubles  3/4 + loisir Loisir Système Aurard
DESCRIPTION:
URL:https://www.csb71.com/evenement/16-doubles-3-4-loisir-loisir-systeme-aurard-6/
LOCATION:GUEUGNON
CATEGORIES:concours tous publics
END:VEVENT
BEGIN:VEVENT
DTSTART;TZID=Europe/Paris:20250920T080000
DTEND;TZID=Europe/Paris:20250920T080000
DTSTAMP:20260424T052814
CREATED:20240924T102010Z
LAST-MODIFIED:20250808T103304Z
UID:10001784-1758355200-1758355200@www.csb71.com
SUMMARY:24 doubles  3 et 4 Promotion En poules
DESCRIPTION:
URL:https://www.csb71.com/evenement/24-doubles-3-et-4-promotion-en-poules/
LOCATION:CRÊCHES-SUR-SAÔNE
CATEGORIES:concours tous publics
END:VEVENT
BEGIN:VEVENT
DTSTART;TZID=Europe/Paris:20250927T133000
DTEND;TZID=Europe/Paris:20250927T133000
DTSTAMP:20260424T052814
CREATED:20250811T143835Z
LAST-MODIFIED:20250812T114519Z
UID:10002002-1758979800-1758979800@www.csb71.com
SUMMARY:32 doubles 3 et 4 Promotion Élimination directe
DESCRIPTION:
URL:https://www.csb71.com/evenement/32-doubles-3-et-4-promotion-elimination-directe/
LOCATION:DIGOIN
CATEGORIES:concours tous publics
ATTACH;FMTTYPE=image/png:https://www.csb71.com/wp-content/uploads/2025/07/Concours-32-D-3-4-27-09-2025.png
END:VEVENT
END:VCALENDAR