BEGIN:VCALENDAR
VERSION:2.0
PRODID:-//Comité Sportif Bouliste de Saône et Loire - ECPv6.15.20//NONSGML v1.0//EN
CALSCALE:GREGORIAN
METHOD:PUBLISH
X-WR-CALNAME:Comité Sportif Bouliste de Saône et Loire
X-ORIGINAL-URL:https://www.csb71.com
X-WR-CALDESC:évènements pour Comité Sportif Bouliste de Saône et Loire
REFRESH-INTERVAL;VALUE=DURATION:PT1H
X-Robots-Tag:noindex
X-PUBLISHED-TTL:PT1H
BEGIN:VTIMEZONE
TZID:Europe/Paris
BEGIN:DAYLIGHT
TZOFFSETFROM:+0100
TZOFFSETTO:+0200
TZNAME:CEST
DTSTART:20250330T010000
END:DAYLIGHT
BEGIN:STANDARD
TZOFFSETFROM:+0200
TZOFFSETTO:+0100
TZNAME:CET
DTSTART:20251026T010000
END:STANDARD
BEGIN:DAYLIGHT
TZOFFSETFROM:+0100
TZOFFSETTO:+0200
TZNAME:CEST
DTSTART:20260329T010000
END:DAYLIGHT
BEGIN:STANDARD
TZOFFSETFROM:+0200
TZOFFSETTO:+0100
TZNAME:CET
DTSTART:20261025T010000
END:STANDARD
BEGIN:DAYLIGHT
TZOFFSETFROM:+0100
TZOFFSETTO:+0200
TZNAME:CEST
DTSTART:20270328T010000
END:DAYLIGHT
BEGIN:STANDARD
TZOFFSETFROM:+0200
TZOFFSETTO:+0100
TZNAME:CET
DTSTART:20271031T010000
END:STANDARD
END:VTIMEZONE
BEGIN:VEVENT
DTSTART;TZID=Europe/Paris:20260501T133000
DTEND;TZID=Europe/Paris:20260501T133000
DTSTAMP:20260424T160735
CREATED:20250811T144700Z
LAST-MODIFIED:20250811T152351Z
UID:10002097-1777642200-1777642200@www.csb71.com
SUMMARY:16 doubles 3 et 4 Promotion Système Aurard
DESCRIPTION:
URL:https://www.csb71.com/evenement/16-doubles-3-et-4-promotion-systeme-aurard-2/
LOCATION:LA CLAYETTE
CATEGORIES:concours tous publics
END:VEVENT
BEGIN:VEVENT
DTSTART;TZID=Europe/Paris:20260508T080000
DTEND;TZID=Europe/Paris:20260508T080000
DTSTAMP:20260424T160735
CREATED:20250811T144707Z
LAST-MODIFIED:20250811T152354Z
UID:10002103-1778227200-1778227200@www.csb71.com
SUMMARY:16 doubles 3/4 + 1N Promotion En poules
DESCRIPTION:
URL:https://www.csb71.com/evenement/16-doubles-3-4-1n-promotion-en-poules/
LOCATION:GÉNELARD
CATEGORIES:concours tous publics
END:VEVENT
BEGIN:VEVENT
DTSTART;TZID=Europe/Paris:20260508T083000
DTEND;TZID=Europe/Paris:20260508T083000
DTSTAMP:20260424T160735
CREATED:20250811T144707Z
LAST-MODIFIED:20250811T152354Z
UID:10002102-1778229000-1778229000@www.csb71.com
SUMMARY:16 doubles 3/4 + 1N Promotion Système Martin
DESCRIPTION:
URL:https://www.csb71.com/evenement/16-doubles-3-4-1n-promotion-systeme-martin-3/
LOCATION:AUTUN
CATEGORIES:concours tous publics
END:VEVENT
BEGIN:VEVENT
DTSTART;TZID=Europe/Paris:20260509T133000
DTEND;TZID=Europe/Paris:20260509T133000
DTSTAMP:20260424T160735
CREATED:20250811T144718Z
LAST-MODIFIED:20250811T152355Z
UID:10002105-1778333400-1778333400@www.csb71.com
SUMMARY:32 doubles 3 et 4 Promotion Élimination directe
DESCRIPTION:
URL:https://www.csb71.com/evenement/32-doubles-3-et-4-promotion-elimination-directe-4/
LOCATION:CHAMBILLY
CATEGORIES:concours tous publics
END:VEVENT
BEGIN:VEVENT
DTSTART;TZID=Europe/Paris:20260514T083000
DTEND;TZID=Europe/Paris:20260514T083000
DTSTAMP:20260424T160735
CREATED:20250811T144745Z
LAST-MODIFIED:20260310T174756Z
UID:10002110-1778747400-1778747400@www.csb71.com
SUMMARY:24 doubles 3/4 + 1N Système Martin
DESCRIPTION:
URL:https://www.csb71.com/evenement/24-doubles-3-4-1n-systeme-aurard/
LOCATION:CHALON LES CHEMINOTS
CATEGORIES:concours tous publics
END:VEVENT
BEGIN:VEVENT
DTSTART;TZID=Europe/Paris:20260514T133000
DTEND;TZID=Europe/Paris:20260514T133000
DTSTAMP:20260424T160735
CREATED:20250811T144719Z
LAST-MODIFIED:20250811T152356Z
UID:10002109-1778765400-1778765400@www.csb71.com
SUMMARY:16 doubles 4 + un 3 autorisé Promotion Élimination directe
DESCRIPTION:
URL:https://www.csb71.com/evenement/16-doubles-4-un-3-autorise-promotion-elimination-directe/
LOCATION:MONTCEAUX L’ETOILE
CATEGORIES:concours tous publics
END:VEVENT
BEGIN:VEVENT
DTSTART;TZID=Europe/Paris:20260516T133000
DTEND;TZID=Europe/Paris:20260516T133000
DTSTAMP:20260424T160735
CREATED:20250811T144745Z
LAST-MODIFIED:20250811T152400Z
UID:10002112-1778938200-1778938200@www.csb71.com
SUMMARY:16 Quadrette M3/M4 Promotion Aurard
DESCRIPTION:
URL:https://www.csb71.com/evenement/16-quadrette-m3-m4-promotion-aurard/
LOCATION:SAINT-GERMAIN-DU-BOIS
CATEGORIES:concours tous publics
END:VEVENT
BEGIN:VEVENT
DTSTART;TZID=Europe/Paris:20260531T133000
DTEND;TZID=Europe/Paris:20260531T133000
DTSTAMP:20260424T160735
CREATED:20250811T144908Z
LAST-MODIFIED:20250811T152421Z
UID:10002121-1780234200-1780234200@www.csb71.com
SUMMARY:16 doubles M3/M4 Promotion Aurard
DESCRIPTION:
URL:https://www.csb71.com/evenement/16-doubles-m3-m4-promotion-aurard/
LOCATION:SAINT-GERMAIN-DU-BOIS
CATEGORIES:concours tous publics
END:VEVENT
END:VCALENDAR