BEGIN:VCALENDAR
VERSION:2.0
PRODID:-//Comité Sportif Bouliste de Saône et Loire - ECPv6.15.20//NONSGML v1.0//EN
CALSCALE:GREGORIAN
METHOD:PUBLISH
X-WR-CALNAME:Comité Sportif Bouliste de Saône et Loire
X-ORIGINAL-URL:https://www.csb71.com
X-WR-CALDESC:évènements pour Comité Sportif Bouliste de Saône et Loire
REFRESH-INTERVAL;VALUE=DURATION:PT1H
X-Robots-Tag:noindex
X-PUBLISHED-TTL:PT1H
BEGIN:VTIMEZONE
TZID:Europe/Paris
BEGIN:DAYLIGHT
TZOFFSETFROM:+0100
TZOFFSETTO:+0200
TZNAME:CEST
DTSTART:20250330T010000
END:DAYLIGHT
BEGIN:STANDARD
TZOFFSETFROM:+0200
TZOFFSETTO:+0100
TZNAME:CET
DTSTART:20251026T010000
END:STANDARD
BEGIN:DAYLIGHT
TZOFFSETFROM:+0100
TZOFFSETTO:+0200
TZNAME:CEST
DTSTART:20260329T010000
END:DAYLIGHT
BEGIN:STANDARD
TZOFFSETFROM:+0200
TZOFFSETTO:+0100
TZNAME:CET
DTSTART:20261025T010000
END:STANDARD
BEGIN:DAYLIGHT
TZOFFSETFROM:+0100
TZOFFSETTO:+0200
TZNAME:CEST
DTSTART:20270328T010000
END:DAYLIGHT
BEGIN:STANDARD
TZOFFSETFROM:+0200
TZOFFSETTO:+0100
TZNAME:CET
DTSTART:20271031T010000
END:STANDARD
END:VTIMEZONE
BEGIN:VEVENT
DTSTART;TZID=Europe/Paris:20260619T180000
DTEND;TZID=Europe/Paris:20260619T180000
DTSTAMP:20260424T173203
CREATED:20250811T144941Z
LAST-MODIFIED:20250811T152443Z
UID:10002133-1781892000-1781892000@www.csb71.com
SUMMARY:16 doubles 3 et 4 Promotion Système Aurard
DESCRIPTION:06 75 82 71 31
URL:https://www.csb71.com/evenement/16-doubles-3-et-4-promotion-systeme-aurard-5/
LOCATION:MARCIGNY
CATEGORIES:concours tous publics
END:VEVENT
BEGIN:VEVENT
DTSTART;TZID=Europe/Paris:20260627T073000
DTEND;TZID=Europe/Paris:20260627T073000
DTSTAMP:20260424T173203
CREATED:20250811T144950Z
LAST-MODIFIED:20250811T152446Z
UID:10002136-1782545400-1782545400@www.csb71.com
SUMMARY:32 doubles 3 et 4 Promotion En poules
DESCRIPTION:03 85 26 31 93
URL:https://www.csb71.com/evenement/32-doubles-3-et-4-promotion-en-poules/
LOCATION:TANCON-COUBLANC
CATEGORIES:concours tous publics
END:VEVENT
BEGIN:VEVENT
DTSTART;TZID=Europe/Paris:20260628T080000
DTEND;TZID=Europe/Paris:20260628T080000
DTSTAMP:20260424T173203
CREATED:20250811T144951Z
LAST-MODIFIED:20250811T152446Z
UID:10002137-1782633600-1782633600@www.csb71.com
SUMMARY:16 doubles 3 et 4 Promotion En poules
DESCRIPTION:
URL:https://www.csb71.com/evenement/16-doubles-3-et-4-promotion-en-poules/
LOCATION:PRÉTY
CATEGORIES:concours tous publics
END:VEVENT
END:VCALENDAR