BEGIN:VCALENDAR
VERSION:2.0
PRODID:-//Comité Sportif Bouliste de Saône et Loire - ECPv6.15.20//NONSGML v1.0//EN
CALSCALE:GREGORIAN
METHOD:PUBLISH
X-WR-CALNAME:Comité Sportif Bouliste de Saône et Loire
X-ORIGINAL-URL:https://www.csb71.com
X-WR-CALDESC:évènements pour Comité Sportif Bouliste de Saône et Loire
REFRESH-INTERVAL;VALUE=DURATION:PT1H
X-Robots-Tag:noindex
X-PUBLISHED-TTL:PT1H
BEGIN:VTIMEZONE
TZID:Europe/Paris
BEGIN:DAYLIGHT
TZOFFSETFROM:+0100
TZOFFSETTO:+0200
TZNAME:CEST
DTSTART:20250330T010000
END:DAYLIGHT
BEGIN:STANDARD
TZOFFSETFROM:+0200
TZOFFSETTO:+0100
TZNAME:CET
DTSTART:20251026T010000
END:STANDARD
BEGIN:DAYLIGHT
TZOFFSETFROM:+0100
TZOFFSETTO:+0200
TZNAME:CEST
DTSTART:20260329T010000
END:DAYLIGHT
BEGIN:STANDARD
TZOFFSETFROM:+0200
TZOFFSETTO:+0100
TZNAME:CET
DTSTART:20261025T010000
END:STANDARD
BEGIN:DAYLIGHT
TZOFFSETFROM:+0100
TZOFFSETTO:+0200
TZNAME:CEST
DTSTART:20270328T010000
END:DAYLIGHT
BEGIN:STANDARD
TZOFFSETFROM:+0200
TZOFFSETTO:+0100
TZNAME:CET
DTSTART:20271031T010000
END:STANDARD
END:VTIMEZONE
BEGIN:VEVENT
DTSTART;TZID=Europe/Paris:20260912T080000
DTEND;TZID=Europe/Paris:20260912T080000
DTSTAMP:20260424T211511
CREATED:20250811T145124Z
LAST-MODIFIED:20250811T145124Z
UID:10002167-1789200000-1789200000@www.csb71.com
SUMMARY:32 simple 3 et 4 Promotion En poules
DESCRIPTION:06 83 60 31 61
URL:https://www.csb71.com/evenement/32-simple-3-et-4-promotion-en-poules-2/
LOCATION:CHAUFFAILLES
CATEGORIES:concours tous publics
END:VEVENT
BEGIN:VEVENT
DTSTART;TZID=Europe/Paris:20260912T080000
DTEND;TZID=Europe/Paris:20260912T080000
DTSTAMP:20260424T211511
CREATED:20250811T145124Z
LAST-MODIFIED:20250811T145124Z
UID:10002168-1789200000-1789200000@www.csb71.com
SUMMARY:64 doubles 3/4 + 1N Propagande En poules
DESCRIPTION:
URL:https://www.csb71.com/evenement/64-doubles-3-4-1n-propagande-en-poules/
LOCATION:MACON OMB
CATEGORIES:concours tous publics
END:VEVENT
END:VCALENDAR